BEGIN:VCALENDAR
VERSION:2.0
PRODID:-//Chorus Inside - ECPv6.15.20//NONSGML v1.0//EN
CALSCALE:GREGORIAN
METHOD:PUBLISH
X-ORIGINAL-URL:https://chorusinside.com
X-WR-CALDESC:Events for Chorus Inside
REFRESH-INTERVAL;VALUE=DURATION:PT1H
X-Robots-Tag:noindex
X-PUBLISHED-TTL:PT1H
BEGIN:VTIMEZONE
TZID:UTC
BEGIN:STANDARD
TZOFFSETFROM:+0000
TZOFFSETTO:+0000
TZNAME:UTC
DTSTART:20190101T000000
END:STANDARD
END:VTIMEZONE
BEGIN:VEVENT
DTSTART;TZID=UTC:20211203T000000
DTEND;TZID=UTC:20211206T233000
DTSTAMP:20260422T203957
CREATED:20211213T115115Z
LAST-MODIFIED:20211213T181726Z
UID:16483-1638489600-1638833400@chorusinside.com
SUMMARY:ROME 2021
DESCRIPTION:  \nSCHEDULE\n3.12.2021\nArrival of choirs\, registration and welcoming by the Hostesses. Free time for individual activities. Overnight. \n4.12.2021\nBreakfast. GUIDED TOUR of the Vatican City. FESTIVAL OPENING CONCERT in PANTHEON. Overnight. \n5.12.2021\nBreakfast. INTERNATIONAL COMPETITION at the “Baldini” Concert Hall (near Marcello Theater). AWARD CEREMONY. Overnight. \n6.12.2021\nBreakfast. GUIDED TOUR “Christian Rome”. Free time. Departure of groups. End of service. \n\n€ 170\n\nExperience the emotion of singing in one of the most beautiful and charming places in the world\, Rome\, the eternal city that ancient people used to call “Caput Mundi”. \nThe Colosseum\, the Vatican\, the Trevi Fountain\, Trinità dei Monti\, the Pantheon\, the Roman forum\, piazza Navona\, via Veneto\, the Janiculum: these are only a few of the wonders that you will have the chance to enjoy\, together with your choir. \nArt\, culture\, history and charm will join your songs\, surrounded by a unique atmosphere\, that only Rome could give you. \nCHORUS INSIDE ADVENT… the International Festival you will never forget! \n\n\n	Notice: JavaScript is required for this content.\nThis form is currently undergoing maintenance. Please try again later.
URL:https://chorusinside.com/evento/rome-2021/
CATEGORIES:Festivals-En
END:VEVENT
BEGIN:VEVENT
DTSTART;TZID=UTC:20210825T000000
DTEND;TZID=UTC:20210830T233000
DTSTAMP:20260422T203957
CREATED:20211213T115114Z
LAST-MODIFIED:20211213T173707Z
UID:16482-1629849600-1630366200@chorusinside.com
SUMMARY:CROATIA 2021
DESCRIPTION:SCHEDULE\n25.08.2021\nArrival in Rovinj. Accomodation in the selected resort. Free time for individual activities. Dinner. Overnight. \n26.08.2021\nBreakfast. Optional excursions. Free time for individual activities. CONCERT with Croatian Choir twinned (by reservation) Dinner. Overnight. \n27.08.2021\nBreakfast. Free time for individual activities. PARADE in the center of Rovinj. FESTIVAL OPENING CONCERT in Church of St. Euphemia. Dinner. Overnight. \n28.08.2021\nBreakfast. INTERNATIONAL COMPETITION of choirs in AUDITORIUM “ADRIS”. Dinner. Overnight. \n29.08.2021\nBreakfast. Tour of PULA. A walk through the town to the Church of St. Blaise. Visit the mummies. Tour of Brion\, Tito’s summer residence\, etc. AWARD CEREMONY and GOODBYE PARTY at the typical croatian restaurant (optional). Overnight. \n30.08.2021\nBreakfast. Departure for VENICE. Free time. CLOSING CONCERT OF THE FESTIVAL. Departure of the groups. \n\n€ 295\n\nMediterranean edition of Chorus Inside Festival\, the ultimate atmosphere for singing! Ancient and evocative towns\, luxuriant landscapes\, with parks\, waterfalls\, lakes and coasts displaying crystal clear sea\, together with cultural treasures\, ancient buildings\, castles with their history and untouched folk traditions\, still alive in small towns’ everyday life. \nWith its itineraries of taste\, outdoor activities\, fishermen’s villages and enchanting towns\, Croatia is definitely one of the most beautiful destinations in Europe! \n\n\n	Notice: JavaScript is required for this content.\nThis form is currently undergoing maintenance. Please try again later.
URL:https://chorusinside.com/evento/croatia-2021/
CATEGORIES:Festivals-En
END:VEVENT
BEGIN:VEVENT
DTSTART;TZID=UTC:20201211T000000
DTEND;TZID=UTC:20201215T000000
DTSTAMP:20260422T203957
CREATED:20211213T125507Z
LAST-MODIFIED:20211214T161739Z
UID:16600-1607644800-1607990400@chorusinside.com
SUMMARY:BUDAPEST 2020
DESCRIPTION:Notice: JavaScript is required for this content.\nThis form is currently undergoing maintenance. Please try again later.
URL:https://chorusinside.com/evento/budapest-2020-2/
CATEGORIES:Festivals-En
END:VEVENT
END:VCALENDAR