BEGIN:VCALENDAR
VERSION:2.0
PRODID:-//Chorus Inside - ECPv6.15.20//NONSGML v1.0//EN
CALSCALE:GREGORIAN
METHOD:PUBLISH
X-WR-CALNAME:Chorus Inside
X-ORIGINAL-URL:https://chorusinside.com
X-WR-CALDESC:Events for Chorus Inside
REFRESH-INTERVAL;VALUE=DURATION:PT1H
X-Robots-Tag:noindex
X-PUBLISHED-TTL:PT1H
BEGIN:VTIMEZONE
TZID:UTC
BEGIN:STANDARD
TZOFFSETFROM:+0000
TZOFFSETTO:+0000
TZNAME:UTC
DTSTART:20180101T000000
END:STANDARD
END:VTIMEZONE
BEGIN:VEVENT
DTSTART;TZID=UTC:20191213T000000
DTEND;TZID=UTC:20191217T000000
DTSTAMP:20260423T070734
CREATED:20211213T123904Z
LAST-MODIFIED:20211213T123904Z
UID:16558-1576195200-1576540800@chorusinside.com
SUMMARY:HUNGARY 2019
DESCRIPTION:PROGRAMMA\n13.12.2019\nArrivo a Budapest\, sistemazione dei gruppi (Hotel Hungaria City Center****)\, tempo libero (possibile visita alle TERME SZECHENY)\, cena\, pernottamento. \n14.12.2019\nColazione\, ESCURSIONE GUIDATA a Budapest\, CONCERTO DI GALA nella Chiesa Evangélikus Egyházközség\, cena\, pernottamento. \n15.12.2019\nColazione\, CONCORSO INTERNAZIONE presso la Sala Concerti “Nador Terem”\, CERIMONIA DI PREMIAZIONE\, GOODBYE PARTY (facoltativo) o cena in hotel\, pernottamento. \n16.12.2019\nColazione\, tempo libero nel centro storico di Budapest\, ESCURSIONE GUIDATA “Luci di Budapest” con Crociera sul Danubio (€ 10 aggiuntivi)\, cena\, pernottamento. \n17.12.2019\nColazione\, partenza per VIENNA (facoltativo)\, tempo libero nei mercatini di Natale\, fine del servizio. \n\n€ 235\n\nIL PREZZO INCLUDE: \n\n4 pernottamenti in Hotel**** trattamento H/B (colazione e cena)\n2 ESCURSIONI GUIDATE\n1 CONCERTO\n\n\nFestival internazionale organizzato in una delle più belle Capitali d’Europa\, BUDAPEST\, una città incantevole avvolta dalle magiche atmosfere natalizie. \nConcerti in location di assoluto prestigio\, tantissimi Cori partecipanti provenienti da tutta Europa\, i castelli\, i mercatini di Natale il Danubio… il modo migliore per concludere il 2018 con il proprio Coro! \n\n\n	Notice: JavaScript is required for this content.\nThis form is currently undergoing maintenance. Please try again later.
URL:https://chorusinside.com/evento/hungary-2019-2/
CATEGORIES:Festivals
END:VEVENT
BEGIN:VEVENT
DTSTART;TZID=UTC:20191213T000000
DTEND;TZID=UTC:20191217T000000
DTSTAMP:20260423T070734
CREATED:20211213T123904Z
LAST-MODIFIED:20211213T123904Z
UID:16559-1576195200-1576540800@chorusinside.com
SUMMARY:BUDAPEST 2019
DESCRIPTION:SCHEDULE\n13.12.2019\nArrival of the choirs. Accomodation and dinner at the Hotel in Budapest. Optional: relax time at Széchenyi thermal bath. Rehearsal in the hotel. Dinner. Overnight. \n14.12.2019\nBreakfast. Walking tour in centre of Budapest. OPENING CONCERT at Evangélikus Egyházközség Church. Dinner. Overnight. \n15.12.2019\nBreakfast. INTERNATIONAL COMPETITION at Concert Hall “Nador Terem” (Budapest)\, AWARD CEREMONY\, GOODBYE PARTY (facultative) or dinner in hotel. Overnight. \n16.12.2019\nBreakfast. Free time. GUIDED EXCURSION “Lights of Budapest” with Danube Cruise (€ 10 additional)\, Dinner\, Overnight. \n17.12.2019\nBreakfast. Departure for VIENNA (facultative). Sightseeing of the city and free time. Optional dinner. Departure of groups. Service end. \n\n€ 235\n\nTHE PRICE INCLUDES: \n\n4 overnights Hotel**** with H/B service (breakfast and dinner)\n2 guided excursions\n1 concert\n\n\n\n	Notice: JavaScript is required for this content.\nThis form is currently undergoing maintenance. Please try again later.
URL:https://chorusinside.com/evento/budapest-2019-2/
CATEGORIES:Festivals
END:VEVENT
BEGIN:VEVENT
DTSTART;TZID=UTC:20191213T000000
DTEND;TZID=UTC:20191213T000000
DTSTAMP:20260423T070734
CREATED:20211213T114249Z
LAST-MODIFIED:20211213T114249Z
UID:16462-1576195200-1576195200@chorusinside.com
SUMMARY:HUNGARY 2019
DESCRIPTION:PROGRAMMA\n13.12.2019\nArrivo a Budapest\, sistemazione dei gruppi (Hotel Hungaria City Center****)\, tempo libero (possibile visita alle TERME SZECHENY)\, cena\, pernottamento. \n14.12.2019\nColazione\, ESCURSIONE GUIDATA a Budapest\, CONCERTO DI GALA nella Chiesa Evangélikus Egyházközség\, cena\, pernottamento. \n15.12.2019\nColazione\, CONCORSO INTERNAZIONE presso la Sala Concerti “Nador Terem”\, CERIMONIA DI PREMIAZIONE\, GOODBYE PARTY (facoltativo) o cena in hotel\, pernottamento. \n16.12.2019\nColazione\, tempo libero nel centro storico di Budapest\, ESCURSIONE GUIDATA “Luci di Budapest” con Crociera sul Danubio (€ 10 aggiuntivi)\, cena\, pernottamento. \n17.12.2019\nColazione\, partenza per VIENNA (facoltativo)\, tempo libero nei mercatini di Natale\, fine del servizio. \n\n€ 235\n\nIL PREZZO INCLUDE: \n\n4 pernottamenti in Hotel**** trattamento H/B (colazione e cena)\n2 ESCURSIONI GUIDATE\n1 CONCERTO\n\n\nFestival internazionale organizzato in una delle più belle Capitali d’Europa\, BUDAPEST\, una città incantevole avvolta dalle magiche atmosfere natalizie. \nConcerti in location di assoluto prestigio\, tantissimi Cori partecipanti provenienti da tutta Europa\, i castelli\, i mercatini di Natale il Danubio… il modo migliore per concludere il 2018 con il proprio Coro! \n\n\n	Notice: JavaScript is required for this content.\nThis form is currently undergoing maintenance. Please try again later.
URL:https://chorusinside.com/evento/hungary-2019/
CATEGORIES:Festivals
END:VEVENT
BEGIN:VEVENT
DTSTART;TZID=UTC:20191213T000000
DTEND;TZID=UTC:20191213T000000
DTSTAMP:20260423T070735
CREATED:20211213T114049Z
LAST-MODIFIED:20211213T114049Z
UID:16461-1576195200-1576195200@chorusinside.com
SUMMARY:BUDAPEST 2019
DESCRIPTION:SCHEDULE\n13.12.2019\nArrival of the choirs. Accomodation and dinner at the Hotel in Budapest. Optional: relax time at Széchenyi thermal bath. Rehearsal in the hotel. Dinner. Overnight. \n14.12.2019\nBreakfast. Walking tour in centre of Budapest. OPENING CONCERT at Evangélikus Egyházközség Church. Dinner. Overnight. \n15.12.2019\nBreakfast. INTERNATIONAL COMPETITION at Concert Hall “Nador Terem” (Budapest)\, AWARD CEREMONY\, GOODBYE PARTY (facultative) or dinner in hotel. Overnight. \n16.12.2019\nBreakfast. Free time. GUIDED EXCURSION “Lights of Budapest” with Danube Cruise (€ 10 additional)\, Dinner\, Overnight. \n17.12.2019\nBreakfast. Departure for VIENNA (facultative). Sightseeing of the city and free time. Optional dinner. Departure of groups. Service end. \n\n€ 235\n\nTHE PRICE INCLUDES: \n\n4 overnights Hotel**** with H/B service (breakfast and dinner)\n2 guided excursions\n1 concert\n\n\n\n	Notice: JavaScript is required for this content.\nThis form is currently undergoing maintenance. Please try again later.
URL:https://chorusinside.com/evento/budapest-2019/
CATEGORIES:Festivals
END:VEVENT
BEGIN:VEVENT
DTSTART;TZID=UTC:20191201T130000
DTEND;TZID=UTC:20191201T170000
DTSTAMP:20260423T070735
CREATED:20211213T123903Z
LAST-MODIFIED:20211213T123903Z
UID:16557-1575205200-1575219600@chorusinside.com
SUMMARY:40° Concorso Corale Internazionale ADVENT – Musica Sacra
DESCRIPTION:
URL:https://chorusinside.com/evento/40-concorso-corale-internazionale-advent-musica-sacra/
CATEGORIES:Concerti
END:VEVENT
BEGIN:VEVENT
DTSTART;TZID=UTC:20191201T093000
DTEND;TZID=UTC:20191201T160000
DTSTAMP:20260423T070735
CREATED:20211213T123704Z
LAST-MODIFIED:20211213T123704Z
UID:16556-1575192600-1575216000@chorusinside.com
SUMMARY:40° Concorso Corale Internazionale ADVENT
DESCRIPTION:
URL:https://chorusinside.com/evento/40-concorso-corale-internazionale-advent/
CATEGORIES:Concerti
END:VEVENT
BEGIN:VEVENT
DTSTART;TZID=UTC:20191130T193000
DTEND;TZID=UTC:20191130T203000
DTSTAMP:20260423T070735
CREATED:20211213T123704Z
LAST-MODIFIED:20211213T123704Z
UID:16555-1575142200-1575145800@chorusinside.com
SUMMARY:Komitas 150
DESCRIPTION:
URL:https://chorusinside.com/evento/komitas-150/
CATEGORIES:Concerti
END:VEVENT
BEGIN:VEVENT
DTSTART;TZID=UTC:20191130T130000
DTEND;TZID=UTC:20191130T150000
DTSTAMP:20260423T070735
CREATED:20211213T123704Z
LAST-MODIFIED:20211213T123704Z
UID:16554-1575118800-1575126000@chorusinside.com
SUMMARY:Gala Concert in Pantheon
DESCRIPTION:
URL:https://chorusinside.com/evento/gala-concert-in-pantheon/
CATEGORIES:Concerti
END:VEVENT
BEGIN:VEVENT
DTSTART;TZID=UTC:20191130T000000
DTEND;TZID=UTC:20191130T000000
DTSTAMP:20260423T070735
CREATED:20211213T114250Z
LAST-MODIFIED:20211214T155535Z
UID:16463-1575072000-1575072000@chorusinside.com
SUMMARY:Vocality\, methodology and practice of choral singing\, rehearsal organizational
DESCRIPTION:
URL:https://chorusinside.com/evento/vocality-methodology-and-practice-of-choral-singing-rehearsal-organizational/
CATEGORIES:Masterclass-En
END:VEVENT
BEGIN:VEVENT
DTSTART;TZID=UTC:20191130T000000
DTEND;TZID=UTC:20191130T000000
DTSTAMP:20260423T070735
CREATED:20211213T114250Z
LAST-MODIFIED:20211213T123703Z
UID:16464-1575072000-1575072000@chorusinside.com
SUMMARY:Vocalità\, metodologia e pratica del canto corale\, organizzazione della prova
DESCRIPTION:
URL:https://chorusinside.com/evento/vocalita-metodologia-e-pratica-del-canto-corale-organizzazione-della-prova/
CATEGORIES:Masterclass
END:VEVENT
BEGIN:VEVENT
DTSTART;TZID=UTC:20191129T180000
DTEND;TZID=UTC:20191129T193000
DTSTAMP:20260423T070735
CREATED:20211213T123504Z
LAST-MODIFIED:20211213T123504Z
UID:16550-1575050400-1575055800@chorusinside.com
SUMMARY:Russian Voice
DESCRIPTION:
URL:https://chorusinside.com/evento/russian-voice/
CATEGORIES:Concerti
END:VEVENT
BEGIN:VEVENT
DTSTART;TZID=UTC:20191129T000000
DTEND;TZID=UTC:20191202T000000
DTSTAMP:20260423T070735
CREATED:20211213T123504Z
LAST-MODIFIED:20211213T123504Z
UID:16548-1574985600-1575244800@chorusinside.com
SUMMARY:ADVENT 2019
DESCRIPTION:SCHEDULE\n29.11.2019\nArrival of choirs\, registration and welcoming by the Hostesses. Free time for individual activities. Overnight. \n30.11.2019\nBreakfast. GUIDED TOUR of the Vatican City. FESTIVAL OPENING CONCERT in PANTHEON. Overnight \n01.12.2019\nBreakfast. INTERNATIONAL COMPETITION at the “Baldini” Concert Hall (near Marcello Theater). AWARD CEREMONY. Overnight. \n02.12.2019\nBreakfast. GUIDED TOUR “Christian Rome”. Free time. Departure of groups. End of service. \n\nâ¬ 170\n\nTHE PRICE INCLUDES: \n\n3 overnights Hotel*** with B/B service\n2 guided excursions\n1 concert\n\n\nExperience the emotion of singing in one of the most beautiful and charming places in the world\, Rome\, the eternal city that ancient people used to call “Caput Mundi”. \nThe Colosseum\, the Vatican\, the Trevi Fountain\, Trinità dei Monti\, the Pantheon\, the Roman forum\, piazza Navona\, via Veneto\, the Janiculum: these are only a few of the wonders that you will have the chance to enjoy\, together with your choir. \nArt\, culture\, history and charm will join your songs\, surrounded by a unique atmosphere\, that only Rome could give you. \nCHORUS INSIDE ADVENT… the International Festival you will never forget! \n\n\n	Notice: JavaScript is required for this content.\nThis form is currently undergoing maintenance. Please try again later.
URL:https://chorusinside.com/evento/advent-2019-2/
CATEGORIES:Festivals
END:VEVENT
BEGIN:VEVENT
DTSTART;TZID=UTC:20191129T000000
DTEND;TZID=UTC:20191129T000000
DTSTAMP:20260423T070735
CREATED:20211213T114049Z
LAST-MODIFIED:20211213T114049Z
UID:16460-1574985600-1574985600@chorusinside.com
SUMMARY:ADVENT 2019
DESCRIPTION:SCHEDULE\n29.11.2019\nArrival of choirs\, registration and welcoming by the Hostesses. Free time for individual activities. Overnight. \n30.11.2019\nBreakfast. GUIDED TOUR of the Vatican City. FESTIVAL OPENING CONCERT in PANTHEON. Overnight \n01.12.2019\nBreakfast. INTERNATIONAL COMPETITION at the “Baldini” Concert Hall (near Marcello Theater). AWARD CEREMONY. Overnight. \n02.12.2019\nBreakfast. GUIDED TOUR “Christian Rome”. Free time. Departure of groups. End of service. \n\n€ 170\n\nTHE PRICE INCLUDES: \n\n3 overnights Hotel*** with B/B service\n2 guided excursions\n1 concert\n\n\nExperience the emotion of singing in one of the most beautiful and charming places in the world\, Rome\, the eternal city that ancient people used to call “Caput Mundi”. \nThe Colosseum\, the Vatican\, the Trevi Fountain\, Trinità dei Monti\, the Pantheon\, the Roman forum\, piazza Navona\, via Veneto\, the Janiculum: these are only a few of the wonders that you will have the chance to enjoy\, together with your choir. \nArt\, culture\, history and charm will join your songs\, surrounded by a unique atmosphere\, that only Rome could give you. \nCHORUS INSIDE ADVENT… the International Festival you will never forget! \n\n\n	Notice: JavaScript is required for this content.\nThis form is currently undergoing maintenance. Please try again later.
URL:https://chorusinside.com/evento/advent-2019/
CATEGORIES:Festivals
END:VEVENT
BEGIN:VEVENT
DTSTART;TZID=UTC:20191123T143000
DTEND;TZID=UTC:20191123T173000
DTSTAMP:20260423T070735
CREATED:20211213T123503Z
LAST-MODIFIED:20211213T123503Z
UID:16547-1574519400-1574530200@chorusinside.com
SUMMARY:Incontro con le Associazioni Corali della Sardegna
DESCRIPTION:Invia la richiesta di partecipazione\n Il presidente della Federazione Chorus Inside\, Davide Recchia\, unitamente all’Assessorato ai Beni Culturali della Regione Sardegna ed ai presidenti dei cori sardi associati\, incontrerà i rappresentanti di tutte le associazioni corali della Sardegna per illustrare e discutere dei seguenti argomenti: \n\nFinalità associative della Federazione Chorus Inside per la Coralità italiana\nRuolo della Federazione nella presentazione di Bandi e progetti per l’anno 2020\nI Contributi del Fondo Unico per lo Spettacolo del MIBACT\nProgetti corali previsti nella Regione Sardegna\nGemellaggi e scambi culturali tra Associazioni Europee e Associazioni Sarde\nRuolo dei direttori di Coro nell’ambito della Rete Internazionale Chorus Inside
URL:https://chorusinside.com/evento/incontro-con-le-associazioni-corali-della-sardegna/
CATEGORIES:Concerti
END:VEVENT
BEGIN:VEVENT
DTSTART;TZID=UTC:20191102T000000
DTEND;TZID=UTC:20191102T000000
DTSTAMP:20260423T070735
CREATED:20211213T123306Z
LAST-MODIFIED:20211213T123306Z
UID:16546-1572652800-1572652800@chorusinside.com
SUMMARY:10a RASSEGNA COMPOSITORI PER CORI
DESCRIPTION:Siamo lieti di presentare la \n10a RASSEGNA COMPOSITORI VIVENTI PER CORI DI VOCI BIANCHE\, GIOVANILI\,A VOCI PARI E MISTE \nIDEATA DA ALESSIA CALCAGNI \nCON IL PATROCINIO DI: \nFEDERAZIONE CORI ITALIANI CHORUS INSIDE – APS ENTE TERZO SETTOREASSOCIAZIONE DEI DIRETTORI DI CORO ITALIANIISTITUTO CENTRALE PER LA DEMOETNOANTROPOLOGIAMUCIV – MUSEO DELLE CIVILTÀCORO DELLA TERRANUOVA CONSONANZA \nE IN COLLABORAZIONE CON \nMIUR – MINISTERO DELL’ISTRUZIONE\, DELL’UNIVERSTITÀ E DELLA RICERCAComitato Nazionale per l’apprendimento pratico della Musica per tutti gli studenti \nSPECIALE GIORGIO SUSANA \nSABATO 2 NOVEMBRE 2019ORE 15PRESSO IL SALONE D’ONORE DELMUSEO DELLE CIVILTÁMUSEO DELLE ARTI E TRADIZIONI POPOLARI ROMAPIAZZALE GUGLIELMO MARCONI 8ROMA \nINTERVERRANNO: \nDOTT.SSA ANNALISA SPADOLINI del MIURM° ANDREA BASEVIM° PIERO CARABAM° GUIDO COPPOTELLIM° MANOLO DA ROLDM° GIORGIO SUSANAM° TULLIO VISIOLIM° ENRICO MIAROMA \nPartecipano:CORI DI VOCI BIANCHE:Coro Voci bianche della Terra (Roma)Dir. Alessia CalcagniCoro Schola Cantorum…..al massimo (Roma)Dir. Cristina Bortolato \nEnsemble I Fiori Musicali (Roma)dir. Cristina BortolatoCoro voci bianche Primavera (Ostia)Dir. Laura Barchi \nCORI MISTI:Coro dell’Angolo (Roma)Dir. Alessia Calcagni \nCORI GIOVANILI:Coro Melicus di Marostica (Vicenza)Dir. Cinzia ZanonCoro Sol diesis (Civitavecchia)dir. Fabrizio CastellaniCoro Diapason (Roma)Dir. Fabio De AngelisEthos Ensemble (Aprilia)Dir. Sonia Sette \n\nPROGRAMMA: \nCORI DI VOCI BIANCHE:“OUVERTURE” A CORI UNITI \nCoro di voci bianche della TerraDir. Alessia CalcagniCoro Schola Cantorum…..al massimo e Ensemble I Fiori MusicaliDir. Cristina BortolatoCoro di voci bianche PrimaveraDir. Laura Barchi \ndirige Alessia Calcagni“Sono Coriandoli”G. Susana(su testo di Elisa Gastaldon)per coro di voci bianche a 2 voci\, body percussioni e pianoforte.(Prima esecuzione assoluta\, dedicato al M° Alessia Calcagni e al suo coro dal M° Giorgio Susana)Al pianoforte Gianluigi Clemente \nSchola Cantorum al…massimoEnsemble I Fiori Musicali (Roma)Dir. Cristina Bortolato“Se fossi io a fare la città”G. Susana (su testo di R. Piumini)Al pianoforte Gianluigi Clemente \nCoro di voci bianche Primavera (Ostia)Dir. Laura Barchi“Torchiato Samba”G. Susana (su testo di G. Susana)Al pianoforte Mario Madonna \nCORI MISTI:Coro dell’Angolo (Roma)Dir. Alessia Calcagni“Cielito lindo” (Messico)(Q. Mendoza / Arr. G. Susana) \nCORI GIOVANILI:Coro Sol diesis (Civitavecchia)dir. Fabrizio Castellani“Quella carezza della sera”(New Trolls/ Arr. G. Susana) \nEthos Ensemble (Aprilia)Dir. Sonia Sette“Il cor verrebbe teco”(su testo di Gaspare Stampa – c.a. 1523)“Dolce\, felice e lieta”(testo Francesco Soto de Langa – il terzo libro delle laudi spirituali) \nCoro Melicus di Marostica (VI)Dir. Cinzia Zanon“Cuccurucucu”(F. Battiato/Arr. G. Susana)“Le tasche piene di sassi”(L. Cherubini /Arr. G. Susana) \nCoro Diapason (Roma)Dir. Fabio De Angelis“Luci serene e chiare”G. Susana (su testo di R. Arlotti)
URL:https://chorusinside.com/evento/10a-rassegna-compositori-per-cori/
CATEGORIES:Concerti
END:VEVENT
BEGIN:VEVENT
DTSTART;TZID=UTC:20191026T000000
DTEND;TZID=UTC:20191027T000000
DTSTAMP:20260423T070735
CREATED:20211213T123306Z
LAST-MODIFIED:20211213T123306Z
UID:16545-1572048000-1572134400@chorusinside.com
SUMMARY:Trofeo Nazionale Cori d’Italia
DESCRIPTION:
URL:https://chorusinside.com/evento/trofeo-nazionale-cori-ditalia/
CATEGORIES:Concerti
END:VEVENT
BEGIN:VEVENT
DTSTART;TZID=UTC:20191005T000000
DTEND;TZID=UTC:20191005T000000
DTSTAMP:20260423T070735
CREATED:20211213T123306Z
LAST-MODIFIED:20211213T123306Z
UID:16544-1570233600-1570233600@chorusinside.com
SUMMARY:VIII Rassegna: Canto corale e musica sacra
DESCRIPTION:
URL:https://chorusinside.com/evento/viii-rassegna-canto-corale-e-musica-sacra/
CATEGORIES:Concerti
END:VEVENT
BEGIN:VEVENT
DTSTART;TZID=UTC:20191004T000000
DTEND;TZID=UTC:20191007T000000
DTSTAMP:20260423T070735
CREATED:20211213T123306Z
LAST-MODIFIED:20211213T123306Z
UID:16543-1570147200-1570406400@chorusinside.com
SUMMARY:Angel Voice
DESCRIPTION:
URL:https://chorusinside.com/evento/angel-voice-2/
CATEGORIES:Concerti
END:VEVENT
BEGIN:VEVENT
DTSTART;TZID=UTC:20190922T093000
DTEND;TZID=UTC:20190922T163000
DTSTAMP:20260423T070735
CREATED:20211213T123305Z
LAST-MODIFIED:20211213T123305Z
UID:16542-1569144600-1569169800@chorusinside.com
SUMMARY:Prima Assemblea Nazionale Direttori Di Coro
DESCRIPTION:PROGRAMMA \n\nOre 10:30 – registrazione\nOre 11:00 – inizio lavori\nOre 13:00 – break\nOre 14:30 – ripresa lavori\nOre 17:30 – termine Assemblea\n\nARGOMENTI ALL’ORDINE DEL GIORNO: \n\nRiconoscimento della figura professionale di Direttore di Coro\nCodice deontologico e comportamentale – Carta dei Valori\nAttivazione di servizi dedicati – sito web e reti sociali\nStrategie per la formazione e qualificazione dei Direttori di Cori\nIncarichi e attività artistiche nelle Commissioni internazionali\nInterazione con le Associazioni di Categoria straniere\nRapporti istituzionali\nVarie ed eventuali\n\nI Direttori di Coro associati hanno diritto di voto e possono partecipare attivamente all’Assemblea. \n Possono comunque essere presenti tutti i Direttori di Coro italiani registrati all’inizio dei lavori.
URL:https://chorusinside.com/evento/prima-assemblea-nazionale-direttori-di-coro/
CATEGORIES:Concerti
END:VEVENT
BEGIN:VEVENT
DTSTART;TZID=UTC:20190905T000000
DTEND;TZID=UTC:20190910T000000
DTSTAMP:20260423T070735
CREATED:20211213T121945Z
LAST-MODIFIED:20211213T121945Z
UID:16541-1567641600-1568073600@chorusinside.com
SUMMARY:SPAIN 2019
DESCRIPTION:Choirs / Ensembles\n\n\nCat. C\n\n\n\nLad\n – \n28\,30/30\n\n\n\nChildren Choir Unison\n – \n27\,90/30\n\n\n\nUlybka\n – \n26\,00/30\n\n\n\nNova Tardor\n – \n25\,00/30\n\n\n\nDoxologia\n – \n19\,00/30\n\n\nCat. E\n\n\n\nGrand Zaro\nCroatia\n24\,30/30\n\n\nCat. A\n\n\n\nChildren Choir Unison\n – \n30\,00/30 Â GRAND PRIX\n\n\n\nMelodiya\n – \n24\,30/30\n\n\n\nSol Ixent\n – \n22\,00/30\n\n\n\nVesnianka\n – \n21\,50/30\n\n\nVocalists\n\n\n\nFedorenko Taisiya\n – \n28\,00/30\n\n\n\nKalinichenko Tetiana\n – \n26\,00/30\n\n\n\nKholmirzoeva Dilafruz\n – \n25\,00/30\n\n\n\nNika Bossusko\n – \n24\,50/30\n\n\n\nKhamatdinova Yulia\n – \n23\,00/30\n\n\n\nLikhaschenko Ekaterina\n – \n21\,80/30\n\n\n\nFedorenko Aleksandra\n – \n21\,50/30\n\n\n\nRudakova Tetiana\n – \n21\,00/30\n\n\n\n\n\n\nSpecial Prizes\n\n\nChildren Choir Unison\n“Best Coreography”\n\n\nIrina Karavanskaya\n“Best Conductor”\n\n\nKholmirzoeva Dilafruz\n“Kanishay Kalilova”
URL:https://chorusinside.com/evento/spain-2019-4/
CATEGORIES:Festivals
END:VEVENT
BEGIN:VEVENT
DTSTART;TZID=UTC:20190905T000000
DTEND;TZID=UTC:20190905T000000
DTSTAMP:20260423T070735
CREATED:20211213T113849Z
LAST-MODIFIED:20211213T113849Z
UID:16454-1567641600-1567641600@chorusinside.com
SUMMARY:SPAIN 2019
DESCRIPTION:Choirs / Ensembles\n\n\nCat. C\n\n\n\nLad\n – \n28\,30/30\n\n\n\nChildren Choir Unison\n – \n27\,90/30\n\n\n\nUlybka\n – \n26\,00/30\n\n\n\nNova Tardor\n – \n25\,00/30\n\n\n\nDoxologia\n – \n19\,00/30\n\n\nCat. E\n\n\n\nGrand Zaro\nCroatia\n24\,30/30\n\n\nCat. A\n\n\n\nChildren Choir Unison\n – \n30\,00/30  GRAND PRIX\n\n\n\nMelodiya\n – \n24\,30/30\n\n\n\nSol Ixent\n – \n22\,00/30\n\n\n\nVesnianka\n – \n21\,50/30\n\n\nVocalists\n\n\n\nFedorenko Taisiya\n – \n28\,00/30\n\n\n\nKalinichenko Tetiana\n – \n26\,00/30\n\n\n\nKholmirzoeva Dilafruz\n – \n25\,00/30\n\n\n\nNika Bossusko\n – \n24\,50/30\n\n\n\nKhamatdinova Yulia\n – \n23\,00/30\n\n\n\nLikhaschenko Ekaterina\n – \n21\,80/30\n\n\n\nFedorenko Aleksandra\n – \n21\,50/30\n\n\n\nRudakova Tetiana\n – \n21\,00/30\n\n\n\n\n\n\nSpecial Prizes\n\n\nChildren Choir Unison\n“Best Coreography”\n\n\nIrina Karavanskaya\n“Best Conductor”\n\n\nKholmirzoeva Dilafruz\n“Kanishay Kalilova”
URL:https://chorusinside.com/evento/spain-2019/
CATEGORIES:Festivals
END:VEVENT
BEGIN:VEVENT
DTSTART;TZID=UTC:20190828T000000
DTEND;TZID=UTC:20190902T000000
DTSTAMP:20260423T070735
CREATED:20211213T121945Z
LAST-MODIFIED:20211213T121945Z
UID:16540-1566950400-1567382400@chorusinside.com
SUMMARY:CROATIA 2019
DESCRIPTION:Choirs / Ensembles\n\n\nCat. A4\n\n\n\nInterschool Choir Capricolium\n–\n29\,00/30  GRAND PRIX\n\n\n\nYouth Chamber Choir Ohana\n–\n27\,50/30\n\n\n\nCantus Delicium\nCroatia\n26\,58/30\n\n\n\nPueri Et Puellae Cantores Plocenses\nPoland\n23\,30/30\n\n\nCat. A\n\n\n\nKlapa Brnistra\nCroatia\n25\,30/30\n\n\n\nDoina Nistrului\n–\n17\,50/30\n\n\nCat. C4\n\n\n\nPoznan University Of Medical Sciences Mixed Choir\nPoland\n25\,86/30\n\n\n\nCantus Delicium\nCroatia\n25\,16/30\n\n\n\nChoir Primo Of Secondary School N°1 Of Bydgoszcz\n–\n24\,33/30\n\n\n\nYouth Chamber Choir Ohana\n–\n23\,40/30\n\n\n\nPueri Et Puellae Cantores Plocenses\nPoland\n22\,30/30\n\n\nCat. C\n\n\n\nConcordia\n–\n25\,70/30\n\n\n\nDoina Nistrului\n–\n18\,50/30\n\n\n\nCoro Della Comunità Degli Italiani Di Dignano\nCroatia\n18\,00/30\n\n\nCat. E4\n\n\n\nChoir Primo Of Secondary School N°1 Of Bydgoszcz\n–\n27\,20/30\n\n\n\nInterschool Choir Capricolium\n–\n26\,80/30\n\n\n\nYouth Chamber Choir Ohana\n–\n21\,00/30\n\n\n\nMići Zaro\nCroatia\n–\n\n\nCat. E4\n\n\n\nCarillon\n–\n25\,30/30\n\n\n\nMješoviti Pjevači Zbor Cantus Populi\n–\n24\,50/30\n\n\n\n\n\n\nSpecial Prizes\n\n\nYouth Chamber Choir Ohana\nBest Coreography\n\n\nDoina Nistrului\nPadre Mario Centerba\n\n\nJakub Koterba\nBest Musician
URL:https://chorusinside.com/evento/croatia-2019-2/
CATEGORIES:Festivals
END:VEVENT
BEGIN:VEVENT
DTSTART;TZID=UTC:20190828T000000
DTEND;TZID=UTC:20190828T000000
DTSTAMP:20260423T070735
CREATED:20211213T114049Z
LAST-MODIFIED:20211213T114049Z
UID:16459-1566950400-1566950400@chorusinside.com
SUMMARY:CROATIA 2019
DESCRIPTION:Choirs / Ensembles\n\n\nCat. A4\n\n\n\nInterschool Choir Capricolium\n – \n29\,00/30  GRAND PRIX\n\n\n\nYouth Chamber Choir Ohana\n – \n27\,50/30\n\n\n\nCantus Delicium\nCroatia\n26\,58/30\n\n\n\nPueri Et Puellae Cantores Plocenses\nPoland\n23\,30/30\n\n\nCat. A\n\n\n\nKlapa Brnistra\nCroatia\n25\,30/30\n\n\n\nDoina Nistrului\n – \n17\,50/30\n\n\nCat. C4\n\n\n\nPoznan University Of Medical Sciences Mixed Choir\nPoland\n25\,86/30\n\n\n\nCantus Delicium\nCroatia\n25\,16/30\n\n\n\nChoir Primo Of Secondary School N°1 Of Bydgoszcz\n – \n24\,33/30\n\n\n\nYouth Chamber Choir Ohana\n – \n23\,40/30\n\n\n\nPueri Et Puellae Cantores Plocenses\nPoland\n22\,30/30\n\n\nCat. C\n\n\n\nConcordia\n – \n25\,70/30\n\n\n\nDoina Nistrului\n – \n18\,50/30\n\n\n\nCoro Della Comunità Degli Italiani Di Dignano\nCroatia\n18\,00/30\n\n\nCat. E4\n\n\n\nChoir Primo Of Secondary School N°1 Of Bydgoszcz\n – \n27\,20/30\n\n\n\nInterschool Choir Capricolium\n – \n26\,80/30\n\n\n\nYouth Chamber Choir Ohana\n – \n21\,00/30\n\n\n\nMići Zaro\nCroatia\n – \n\n\nCat. E4\n\n\n\nCarillon\n – \n25\,30/30\n\n\n\nMješoviti Pjevači Zbor Cantus Populi\n – \n24\,50/30\n\n\n\n\n\n\nSpecial Prizes\n\n\nYouth Chamber Choir Ohana\nBest Coreography\n\n\nDoina Nistrului\nPadre Mario Centerba\n\n\nJakub Koterba\nBest Musician
URL:https://chorusinside.com/evento/croatia-2019/
CATEGORIES:Festivals
END:VEVENT
BEGIN:VEVENT
DTSTART;TZID=UTC:20190813T000000
DTEND;TZID=UTC:20190813T000000
DTSTAMP:20260423T070735
CREATED:20211213T121945Z
LAST-MODIFIED:20211213T121945Z
UID:16539-1565654400-1565654400@chorusinside.com
SUMMARY:FRUICANTUS “LODE A MARIA- Canti pi la Beddra Matri di l’Assicurso”
DESCRIPTION:“LODE A MARIA – Canti pi la Beddra Matri di l’Assicurso”\n  \nVenerdì 13 AGOSTO 2021 – ore 21 presso la Chiesa Madre di CASTELLAMMARE DEL GOLFO (Tp)\, Concerto del Gruppo Vocale FRUICANTUS “LODE A MARIA – Canti pi la Beddra Matri di l’Assicurso”.\nAccompagnamento al pianoforte da Andrea Gerhard Lutz\, al flauto traverso da Ilenia Cruciata\, direzione del M° Maria Messana.\nLa manifestazione\, patrocinata da FEDERCORI e dall’Ass.ne CHORUS INSIDE SICILIA\, sarà presentata dalla prof.ssa Maria Rita Letizia Vescovo\, ed è inserita all’interno dei festeggiamenti di Maria SS. del Soccorso patrona di Castellammare del Golfo.
URL:https://chorusinside.com/evento/fruicantus-lode-a-maria-canti-pi-la-beddra-matri-di-lassicurso/
CATEGORIES:Concerti
END:VEVENT
BEGIN:VEVENT
DTSTART;TZID=UTC:20190729T000000
DTEND;TZID=UTC:20190729T000000
DTSTAMP:20260423T070735
CREATED:20211213T121945Z
LAST-MODIFIED:20211213T121945Z
UID:16538-1564358400-1564358400@chorusinside.com
SUMMARY:Castelvecchio ‘n Folk
DESCRIPTION:
URL:https://chorusinside.com/evento/castelvecchio-n-folk/
CATEGORIES:Concerti
END:VEVENT
BEGIN:VEVENT
DTSTART;TZID=UTC:20190727T000000
DTEND;TZID=UTC:20190728T000000
DTSTAMP:20260423T070735
CREATED:20211213T121944Z
LAST-MODIFIED:20211213T121944Z
UID:16537-1564185600-1564272000@chorusinside.com
SUMMARY:40° Rassegna Internazionale del Folklore
DESCRIPTION:
URL:https://chorusinside.com/evento/40-rassegna-internazionale-del-folklore/
CATEGORIES:Concerti
END:VEVENT
BEGIN:VEVENT
DTSTART;TZID=UTC:20190706T000000
DTEND;TZID=UTC:20190707T000000
DTSTAMP:20260423T070735
CREATED:20211213T121733Z
LAST-MODIFIED:20211213T121733Z
UID:16536-1562371200-1562457600@chorusinside.com
SUMMARY:Gestione della prova di coro
DESCRIPTION:“Gestione della prova di coro” \n\n\n\nRiscaldamento vocale\nLettura del brano\nResa Musicale\nScelta del repertorio\nStrategie di studio
URL:https://chorusinside.com/evento/gestione-della-prova-di-coro/
CATEGORIES:Masterclass
END:VEVENT
BEGIN:VEVENT
DTSTART;TZID=UTC:20190702T000000
DTEND;TZID=UTC:20190702T000000
DTSTAMP:20260423T070735
CREATED:20211213T121733Z
LAST-MODIFIED:20211213T121733Z
UID:16535-1562025600-1562025600@chorusinside.com
SUMMARY:Concerto di Chiusura del Festival Internazionale Espana 2019
DESCRIPTION:
URL:https://chorusinside.com/evento/concerto-di-chiusura-del-festival-internazionale-espana-2019/
CATEGORIES:Concerti
END:VEVENT
BEGIN:VEVENT
DTSTART;TZID=UTC:20190628T130000
DTEND;TZID=UTC:20190705T140000
DTSTAMP:20260423T070735
CREATED:20211213T121733Z
LAST-MODIFIED:20211213T121733Z
UID:16534-1561726800-1562335200@chorusinside.com
SUMMARY:XXXVIII Rassegna delle Corali Polifoniche
DESCRIPTION:Siamo lieti di comunicare a tutti i Cori associati\, dell’apertura delle iscrizioni alla XXXVIII Rassegna delle Corali Polifoniche che si terrà nella Basilica pontificia di S. Maria Goretti a Nettuno. \nAbbiamo stabilito 3 date per il prestigioso evento che\, come ogni anno\, sarà pubblicizzato a livello nazionale e internazionale. \nUna grande opportunità per i Cori che vogliono vivere uno degli eventi corali più coinvolgenti e suggestivi in una delle location più belle d’Italia. \nPer le iscrizioni scrivete a: info@chorusinside.com o chiamate ai seguenti numeri: 349/3120280 0871/070211 \n 
URL:https://chorusinside.com/evento/xxxviii-rassegna-delle-corali-polifoniche/
CATEGORIES:Concerti
END:VEVENT
BEGIN:VEVENT
DTSTART;TZID=UTC:20190628T000000
DTEND;TZID=UTC:20190628T000000
DTSTAMP:20260423T070735
CREATED:20211213T121733Z
LAST-MODIFIED:20211213T121733Z
UID:16533-1561680000-1561680000@chorusinside.com
SUMMARY:Concerto di Gala
DESCRIPTION:
URL:https://chorusinside.com/evento/concerto-di-gala/
CATEGORIES:Concerti
END:VEVENT
END:VCALENDAR